BEGIN:VCALENDAR
VERSION:2.0
PRODID:icalendar-ruby
CALSCALE:GREGORIAN
METHOD:PUBLISH
BEGIN:VEVENT
DTSTAMP:20260420T071424Z
UID:126-502031@ridgeviewbiblechurch.com
DTSTART:20261026T121500Z
DTEND:20261026T130000Z
CLASS:PUBLIC
CREATED:20260420T003007
DESCRIPTION:All men are welcome! This group is focused on studying the pass
 age that will be preached the upcoming Sunday.  Meeting Mondays at 6:15 A
 M at Ridgeview Bible Church.\nThis is a great study for men who want to le
 arn to study the Bible and how to apply it to their lives.\n*Coffee is pro
 vided!
LAST-MODIFIED:20260420T003007
LOCATION:Ridgeview Bible Church
SUMMARY:Men's Bible Study
URL;VALUE=URI:https://www.ridgeviewbiblechurch.com/events/mens-bible-study-
 -126/2026-10-26
ATTACH;FILENAME=Church Event Images.png;FMTTYPE=image/png:https://dq5pwpg1q
 8ru0.cloudfront.net/2025/01/15/21/36/54/f7d57d6f-718f-48ee-9929-9d825769b8
 52/Church%20Event%20Images.png
END:VEVENT
END:VCALENDAR
